BEGIN:VCALENDAR
VERSION:2.0
PRODID:-//Musikkapelle &gt;uns&lt; - ECPv6.15.12.2//NONSGML v1.0//EN
CALSCALE:GREGORIAN
METHOD:PUBLISH
X-ORIGINAL-URL:https://www.musikkapelle-uns.de/clickstart
X-WR-CALDESC:Veranstaltungen für Musikkapelle &gt;uns&lt;
REFRESH-INTERVAL;VALUE=DURATION:PT1H
X-Robots-Tag:noindex
X-PUBLISHED-TTL:PT1H
BEGIN:VTIMEZONE
TZID:Europe/Berlin
BEGIN:DAYLIGHT
TZOFFSETFROM:+0100
TZOFFSETTO:+0200
TZNAME:CEST
DTSTART:20250330T010000
END:DAYLIGHT
BEGIN:STANDARD
TZOFFSETFROM:+0200
TZOFFSETTO:+0100
TZNAME:CET
DTSTART:20251026T010000
END:STANDARD
BEGIN:DAYLIGHT
TZOFFSETFROM:+0100
TZOFFSETTO:+0200
TZNAME:CEST
DTSTART:20260329T010000
END:DAYLIGHT
BEGIN:STANDARD
TZOFFSETFROM:+0200
TZOFFSETTO:+0100
TZNAME:CET
DTSTART:20261025T010000
END:STANDARD
BEGIN:DAYLIGHT
TZOFFSETFROM:+0100
TZOFFSETTO:+0200
TZNAME:CEST
DTSTART:20270328T010000
END:DAYLIGHT
BEGIN:STANDARD
TZOFFSETFROM:+0200
TZOFFSETTO:+0100
TZNAME:CET
DTSTART:20271031T010000
END:STANDARD
END:VTIMEZONE
BEGIN:VEVENT
DTSTART;TZID=Europe/Berlin:20260719T103000
DTEND;TZID=Europe/Berlin:20260719T140000
DTSTAMP:20260421T155307
CREATED:20260420T202251Z
LAST-MODIFIED:20260420T204105Z
UID:151-1784457000-1784469600@www.musikkapelle-uns.de
SUMMARY:Dorffest Hirschbach
DESCRIPTION:Sehr gerne sind wir wieder in Hirschbach beim Dorffest.
URL:https://www.musikkapelle-uns.de/clickstart/event/dorffest-hirschbach/
LOCATION:Hirschbach\, Hirschbach
ATTACH;FMTTYPE=image/jpeg:https://www.musikkapelle-uns.de/clickstart/wp-content/uploads/2026/04/IMG_4183-scaled.jpeg
END:VEVENT
END:VCALENDAR